BEGIN:VCALENDAR
VERSION:2.0
PRODID:-//Incline Together - ECPv6.15.20//NONSGML v1.0//EN
CALSCALE:GREGORIAN
METHOD:PUBLISH
X-ORIGINAL-URL:https://inclinetogether.com
X-WR-CALDESC:Events for Incline Together
REFRESH-INTERVAL;VALUE=DURATION:PT1H
X-Robots-Tag:noindex
X-PUBLISHED-TTL:PT1H
BEGIN:VTIMEZONE
TZID:America/Los_Angeles
BEGIN:DAYLIGHT
TZOFFSETFROM:-0800
TZOFFSETTO:-0700
TZNAME:PDT
DTSTART:20250309T100000
END:DAYLIGHT
BEGIN:STANDARD
TZOFFSETFROM:-0700
TZOFFSETTO:-0800
TZNAME:PST
DTSTART:20251102T090000
END:STANDARD
BEGIN:DAYLIGHT
TZOFFSETFROM:-0800
TZOFFSETTO:-0700
TZNAME:PDT
DTSTART:20260308T100000
END:DAYLIGHT
BEGIN:STANDARD
TZOFFSETFROM:-0700
TZOFFSETTO:-0800
TZNAME:PST
DTSTART:20261101T090000
END:STANDARD
BEGIN:DAYLIGHT
TZOFFSETFROM:-0800
TZOFFSETTO:-0700
TZNAME:PDT
DTSTART:20270314T100000
END:DAYLIGHT
BEGIN:STANDARD
TZOFFSETFROM:-0700
TZOFFSETTO:-0800
TZNAME:PST
DTSTART:20271107T090000
END:STANDARD
END:VTIMEZONE
BEGIN:VEVENT
DTSTART;TZID=America/Los_Angeles:20260421T173000
DTEND;TZID=America/Los_Angeles:20260421T210000
DTSTAMP:20260424T050319
CREATED:20260219T151839Z
LAST-MODIFIED:20260219T151839Z
UID:5856-1776792600-1776805200@inclinetogether.com
SUMMARY:Incliners: 80's Theme
DESCRIPTION:Join the Incliners on the first and third Tuesday of every month for a night of fun\, friends\, and festivities! For this event\, please bring food to share and a set of bocce balls if you have them! We will provide beverages for all to enjoy. \n\n\n\n\n\n\nAbout Incliners\n\n\n\n\nThe Incliners social group is where Incline Village and Crystal Bay comes to connect\, celebrate\, and live life to the fullest. As part of IVGID’s 49+ active adult program\, we offer a dynamic calendar of social\, recreational\, and educational events that bring together friends\, fun\, and the beauty of mountain living. \nMembership is just $25 per year\, per person. Click here to join now.  \nWhy Join? \nFirst Tuesdays: Get out and about with our monthly social events\, including happy hours\, game nights\, potlucks\, and more! It’s your chance to explore town\, enjoy great company\, and make new connections. \nThird Tuesdays: We gather at The Chateau or Aspen Grove for themed catered dinners and dancing. From the Superbowl to St. Patrick’s Day\, the 4th of July to Thanksgiving\, every month is an excuse to celebrate with delicious food\, music from across the decades\, and plenty of dancing. \nPlus\, so much more! \n\n\nAprès Ski lunches at Diamond Peak during the winter months \n\n\nBridge groups for beginners and seasoned players \n\n\nBook Club to dive into great reads \n\n\nSingles activities (coming soon!)
URL:https://inclinetogether.com/event/incliners-80s-theme/
LOCATION:The Chateau\, 955 Fairway Boulevard\, Incline Village\, NV\, 89451\, United States
CATEGORIES:Entertainment
END:VEVENT
END:VCALENDAR